BEGIN:VCALENDAR
VERSION:2.0
PRODID:-//wp-events-plugin.com//7.2.3.1//EN
BEGIN:VEVENT
UID:1023@yardhyperadio.com
DTSTART:20241206T200000Z
DTEND:20241207T040000Z
DTSTAMP:20241201T162912Z
URL:https://yardhyperadio.com/events/the-big-birthday-bash-call-one-more-y
 ear-pon-dem/
SUMMARY:The Big Birthday Bash | Call One More Year Pon Dem
DESCRIPTION:\n\n•Event Name: The Big Birthday Bash - Call One More Year P
 on Dem\n\n•Theme: A Sagittarius Affair\n\n•Date: Friday\, December 6\,
  2024\n\n•Location:\n\nD Junction\n\n2141 West Colonial\, Orlando\, FL\n
 \n(Drive in the Magic Mall Plaza)\n\n•Admission: $30\n\n•Time:\n\nDoor
 s Open: 8 PM\n\nShowtime: 9 PM\n\n•Hosted by: Countryman (from 1680 AM J
 ammies Radio)\n\n•Performers:\n\n•Johnny P\n\n•Anthony Malvo\n\n•C
 lement Irie\n\n•Collin Roach\n\n•Empressuneek\n\n•Jeffrey Mykals\n\n
 •Ras Dodirie\n\n•Music by:\n\n•Level Links\n\n•DJ BRMMO\n\n•Gold
 star Sound\n\n•DJ Sequence (Out of Ft. Lauderdale)\n\n•DJ Agony
ATTACH;FMTTYPE=image/jpeg:https://yardhyperadio.com/wp-content/uploads/202
 4/11/97a46d7a-88df-48c0-a6d8-ad4da1e401f2.jpeg
CATEGORIES:ORLANDO,EVENT,EVENTS,FLORIDA,SOUND CLASH,UNITED STATES
LOCATION:D Junction\, 2141 West Colonial\, Orlando\, Fl\, United States
X-APPLE-STRUCTURED-LOCATION;VALUE=URI;X-ADDRESS=2141 West Colonial\, Orland
 o\, Fl\, United States;X-APPLE-RADIUS=100;X-TITLE=D Junction:geo:0,0
END:VEVENT
END:VCALENDAR