BEGIN:VCALENDAR
VERSION:2.0
PRODID:-//wp-events-plugin.com//7.2.3.1//EN
BEGIN:VEVENT
UID:1304@yardhyperadio.com
DTSTART:20250123T190000Z
DTEND:20250124T024500Z
DTSTAMP:20241230T002211Z
URL:https://yardhyperadio.com/events/micah-dvinci-friends/
SUMMARY:Micah D'Vinci & Friends
DESCRIPTION:\n\n 	Event Name: Micah D'Vinci &amp\; Friends\n 	Date: January
  23rd\, 2025\n 	Time: 7 PM\n 	Location: Union Hall\, 1023 S Florida Ave\, 
 Lakeland\, FL\n 	Special Guests: TBA\n 	Tickets Available On: Eventbrite.c
 om\n
ATTACH;FMTTYPE=image/jpeg:https://yardhyperadio.com/wp-content/uploads/202
 4/12/micah-d-vinci-event.jpg
CATEGORIES:LAKELAND,UNITED STATES
LOCATION:Union Hall\, 1023 S Florida Ave\, Lakeland\, FL\, United States
X-APPLE-STRUCTURED-LOCATION;VALUE=URI;X-ADDRESS=1023 S Florida Ave\, Lakela
 nd\, FL\, United States;X-APPLE-RADIUS=100;X-TITLE=Union Hall:geo:0,0
END:VEVENT
END:VCALENDAR