BEGIN:VCALENDAR
VERSION:2.0
PRODID:-//wp-events-plugin.com//7.2.3.1//EN
BEGIN:VEVENT
UID:239@yardhyperadio.com
DTSTART;VALUE=DATE:20230729
DTEND;VALUE=DATE:20230731
DTSTAMP:20230611T183924Z
URL:https://yardhyperadio.com/events/daytona-beach-reggae-boyz/
SUMMARY:DAYTONA BEACH REGGAE BOYZ
DESCRIPTION:
CATEGORIES:DAYTONA,FLORIDA,UNITED STATES
LOCATION:Daytona Beach\, Derbyshire Sports Complex\, Daytona\, United State
 s
X-APPLE-STRUCTURED-LOCATION;VALUE=URI;X-ADDRESS=Derbyshire Sports Complex\,
  Daytona\, United States;X-APPLE-RADIUS=100;X-TITLE=Daytona Beach:geo:0,0
END:VEVENT
END:VCALENDAR